BEGIN:VCALENDAR
VERSION:2.0
PRODID:-//wp-events-plugin.com//7.2.3.1//EN
TZID:America/New_York
X-WR-TIMEZONE:America/New_York
BEGIN:VEVENT
UID:277@cisma-suasco.org
DTSTART;TZID=America/New_York:20240517T120000
DTEND;TZID=America/New_York:20240517T130000
DTSTAMP:20240510T181401Z
URL:https://cisma-suasco.org/events/billerica-garlic-mustard-pull/
SUMMARY:Billerica Garlic Mustard Pull
DESCRIPTION:Come pull garlic mustard along the Concord River at Ralph Hill 
 in Billerica! This event will be led by SVT volunteer Marlies Henderson.\n
 \n&nbsp\;\n\nWhere: Parking is located at 56 Morgan Road in Billerica (Bar
 tlett's Landing)\n\nWhen: Friday\, 5/17 at 12:00pm\n\nContact: Please reac
 h out to Jane Maloney (jmaloney@svtweb.org) with questions prior to the ev
 ent\n\n&nbsp\;
CATEGORIES:Volunteer Opportunity,Weed Warrior Event
LOCATION:Ralph Hill Conservation Area\, 56 Morgan Road\, Billerica\, MA\, 0
 1821\, United States
X-APPLE-STRUCTURED-LOCATION;VALUE=URI;X-ADDRESS=56 Morgan Road\, Billerica\
 , MA\, 01821\, United States;X-APPLE-RADIUS=100;X-TITLE=Ralph Hill Conserv
 ation Area:geo:0,0
END:VEVENT
BEGIN:VTIMEZONE
TZID:America/New_York
X-LIC-LOCATION:America/New_York
BEGIN:DAYLIGHT
DTSTART:20240310T030000
TZOFFSETFROM:-0500
TZOFFSETTO:-0400
TZNAME:EDT
END:DAYLIGHT
END:VTIMEZONE
END:VCALENDAR