BEGIN:VCALENDAR
VERSION:2.0
PRODID:-//wp-events-plugin.com//7.2.3.1//EN
TZID:America/New_York
X-WR-TIMEZONE:America/New_York
BEGIN:VEVENT
UID:381@cisma-suasco.org
DTSTART;TZID=America/New_York:20260502T140000
DTEND;TZID=America/New_York:20260502T160000
DTSTAMP:20260421T152218Z
URL:https://cisma-suasco.org/events/garlic-mustard-pull/
SUMMARY:Littleton Weed Warriors: Garlic Mustard Pull
DESCRIPTION:Garlic mustard is an invasive biennial herb that can establish 
 in forest interiors threatening native plant and soil composition. Its roo
 ts chemically suppress beneficial species interdependence.\n\nWhat: We wil
 l be focusing on pulling garlic mustard at three forested conservation lan
 ds: Littleton Town Forest at Balsam Lane\, Bumblebee Meadows\, Williams La
 nd at Boxborough Rd. and Hartwell Family Memorial Preserve.\n\nWhen/Where:
  Saturday May 2 2026\, 2-4 pm\nMeet at the Town Forest entrance on Balsam 
 Lane for information and land assignments.
CATEGORIES:Weed Warrior Event
LOCATION:Town Forest @ Balsam Lane\, 21 Balsam Lane\, Littleton\, MA\, 0146
 0\, United States
X-APPLE-STRUCTURED-LOCATION;VALUE=URI;X-ADDRESS=21 Balsam Lane\, Littleton\
 , MA\, 01460\, United States;X-APPLE-RADIUS=100;X-TITLE=Town Forest @ Bals
 am Lane:geo:0,0
END:VEVENT
BEGIN:VTIMEZONE
TZID:America/New_York
X-LIC-LOCATION:America/New_York
BEGIN:DAYLIGHT
DTSTART:20260308T030000
TZOFFSETFROM:-0500
TZOFFSETTO:-0400
TZNAME:EDT
END:DAYLIGHT
END:VTIMEZONE
END:VCALENDAR