BEGIN:VCALENDAR
VERSION:2.0
PRODID:-//wp-events-plugin.com//7.2.3.1//EN
TZID:America/New_York
X-WR-TIMEZONE:America/New_York
BEGIN:VEVENT
UID:145@cisma-suasco.org
DTSTART;TZID=America/New_York:20220608T170000
DTEND;TZID=America/New_York:20220608T183000
DTSTAMP:20220526T140412Z
URL:https://cisma-suasco.org/events/maynard-weed-warrior-training/
SUMMARY:Maynard Weed Warrior Training
DESCRIPTION:Join the Maynard Conservation Department on Wednesday\, June 8t
 h\, 5:00-6:30 pm for a Weed Warrior Training. Register here.
CATEGORIES:Educational Program,Volunteer Opportunity
LOCATION:Behind Maynard Town Hall\, 195 Main St\, Maynard\, MA\, United Sta
 tes
X-APPLE-STRUCTURED-LOCATION;VALUE=URI;X-ADDRESS=195 Main St\, Maynard\, MA\
 , United States;X-APPLE-RADIUS=100;X-TITLE=Behind Maynard Town Hall:geo:0,
 0
END:VEVENT
BEGIN:VTIMEZONE
TZID:America/New_York
X-LIC-LOCATION:America/New_York
BEGIN:DAYLIGHT
DTSTART:20220313T030000
TZOFFSETFROM:-0500
TZOFFSETTO:-0400
TZNAME:EDT
END:DAYLIGHT
END:VTIMEZONE
END:VCALENDAR