BEGIN:VCALENDAR
VERSION:2.0
PRODID:-//wp-events-plugin.com//7.2.3.1//EN
TZID:America/New_York
X-WR-TIMEZONE:America/New_York
BEGIN:VEVENT
UID:8@cisma-suasco.org
DTSTART;TZID=America/New_York:20190312T140000
DTEND;TZID=America/New_York:20190312T160000
DTSTAMP:20190225T163245Z
URL:https://cisma-suasco.org/events/suasco-cisma-steering-committee-meetin
 g-2019-03-12/
SUMMARY:SuAsCo CISMA Spring Meeting
DESCRIPTION:Please join us for a meeting of the SuAsCo CISMA Steering Commi
 ttee from 2:00pm - 4:00pm at the Assabet River National Wildlife Refuge at
  680 Hudson Road in Sudbury\, MA. The agenda is below. If you are planning
  to attend\, please RSVP to the CISMA Coordinator at kobrien@svtweb.org.\n
 \n2:00 pm: Welcome\n\n2:05 pm: Announcements\n\n 	New Steering Committee M
 embers/ Officers\n 	CISMA Small Grant Recipients\n 	Invasive species legis
 lation\n 	Additional Announcements\n\n2:15 pm: Updates and prospective act
 ions from Subcommittees\n\n2:40 pm: Teaser for upcoming Invasives Managem
 ent Planning and Funding Workshop\n\n2:50 pm: Mile-A-Minute Presentation 
 – Gerry DiBello\, Westford Conservation Trust\n\n3:00 pm: Glyphosate Pre
 sentation – Wjinja Hotzel\, UMass Amherst
CATEGORIES:Committee Meeting
LOCATION:Assabet River National Wildlife Refuge\, 680 Hudson Road\, Sudbury
 \, MA\, 01776\, United States
X-APPLE-STRUCTURED-LOCATION;VALUE=URI;X-ADDRESS=680 Hudson Road\, Sudbury\,
  MA\, 01776\, United States;X-APPLE-RADIUS=100;X-TITLE=Assabet River Natio
 nal Wildlife Refuge:geo:0,0
END:VEVENT
BEGIN:VTIMEZONE
TZID:America/New_York
X-LIC-LOCATION:America/New_York
BEGIN:DAYLIGHT
DTSTART:20190310T030000
TZOFFSETFROM:-0500
TZOFFSETTO:-0400
TZNAME:EDT
END:DAYLIGHT
END:VTIMEZONE
END:VCALENDAR