BEGIN:VCALENDAR
VERSION:2.0
PRODID:-//wp-events-plugin.com//7.2.3.1//EN
TZID:America/New_York
X-WR-TIMEZONE:America/New_York
BEGIN:VEVENT
UID:369@cisma-suasco.org
DTSTART;TZID=America/New_York:20260425T140000
DTEND;TZID=America/New_York:20260425T160000
DTSTAMP:20260401T140924Z
URL:https://cisma-suasco.org/events/sudbury-valley-trustees-cowassock-wood
 s-invasive-pull-4/
SUMMARY:Sudbury Valley Trustees: Cowassock Woods Invasive Pull
DESCRIPTION:Join SVT volunteer Rob St. Germain at Cowassock Woods to pull g
 arlic mustard! No experience required. Bring gloves and a hand trowel\, if
  you have one.\n\nTo sign up for this event\, please click the link below:
 \nhttps://svtprograms.funraise.org/\n\nEmail srogers@svtweb.org for any re
 gistration issues.
CATEGORIES:Public Event,Volunteer Opportunity,Weed Warrior Event
LOCATION:Cowassock Woods\, 886-890 Salem End Road\, Framingham\, MA\, Unite
 d States
X-APPLE-STRUCTURED-LOCATION;VALUE=URI;X-ADDRESS=886-890 Salem End Road\, Fr
 amingham\, MA\, United States;X-APPLE-RADIUS=100;X-TITLE=Cowassock Woods:g
 eo:0,0
END:VEVENT
BEGIN:VTIMEZONE
TZID:America/New_York
X-LIC-LOCATION:America/New_York
BEGIN:DAYLIGHT
DTSTART:20260308T030000
TZOFFSETFROM:-0500
TZOFFSETTO:-0400
TZNAME:EDT
END:DAYLIGHT
END:VTIMEZONE
END:VCALENDAR