BEGIN:VCALENDAR
VERSION:2.0
PRODID:-//wp-events-plugin.com//7.2.3.1//EN
TZID:America/New_York
X-WR-TIMEZONE:America/New_York
BEGIN:VEVENT
UID:382@cisma-suasco.org
DTSTART;TZID=America/New_York:20260429T090000
DTEND;TZID=America/New_York:20260429T120000
DTSTAMP:20260421T170442Z
URL:https://cisma-suasco.org/events/sudbury-valley-trustees-smith-weed-war
 rior-pull-4/
SUMMARY:Sudbury Valley Trustees: Smith Weed Warrior Pull
DESCRIPTION:Help SVT pull invasives at Smith Conservation Land! This work i
 s part of our larger habitat management efforts to restore native species 
 at Smith. We start work at 9:00am\, and you can stay as long as your sched
 ule allows!\n\nAs always\, when working outside\, please be prepared for t
 icks and poison ivy by wearing long pants and gloves will be provided.\n\n
 To sign up for this event\, please click the link below:\nhttps://events.h
 umanitix.com/weed-warrior-pull-3s63gl84\n\nEmail srogers@svtweb.org for an
 y registration issues.
CATEGORIES:Public Event,Volunteer Opportunity,Weed Warrior Event
LOCATION:Smith Conservation Land\, 199 Whitcomb Ave\, Littleton\, United St
 ates
X-APPLE-STRUCTURED-LOCATION;VALUE=URI;X-ADDRESS=199 Whitcomb Ave\, Littleto
 n\, United States;X-APPLE-RADIUS=100;X-TITLE=Smith Conservation Land:geo:0
 ,0
END:VEVENT
BEGIN:VTIMEZONE
TZID:America/New_York
X-LIC-LOCATION:America/New_York
BEGIN:DAYLIGHT
DTSTART:20260308T030000
TZOFFSETFROM:-0500
TZOFFSETTO:-0400
TZNAME:EDT
END:DAYLIGHT
END:VTIMEZONE
END:VCALENDAR