BEGIN:VCALENDAR
VERSION:2.0
PRODID:-//wp-events-plugin.com//7.2.3.1//EN
TZID:America/New_York
X-WR-TIMEZONE:America/New_York
BEGIN:VEVENT
UID:132@cisma-suasco.org
DTSTART;TZID=America/New_York:20220423T090000
DTEND;TZID=America/New_York:20220423T110000
DTSTAMP:20220421T182628Z
URL:https://cisma-suasco.org/events/svt-spring-invasives-pull-at-smith/
SUMMARY:SVT SPRING INVASIVES PULL AT SMITH
DESCRIPTION:April 23\, 2022 9:00am to 11:00am\nLOCATION: Smith Conservation
  Land\, Littleton and Harvard\nLEADER: Laura Mattei\, Director of Stewards
 hip\nHelp to restore the beautiful Smith Conservation Land. We will be han
 d pulling several different invasive plants:  garlic mustard\, narrow-lea
 ved bittercress\, Dame's rocket\, greater celandine and wall lettuce. This
  activity is part of a long-term project to restore the natural habitat. R
 egister here.\n&nbsp\;\n*Poison ivy is present at this site. Volunteers sh
 ould wear long pants and long sleeves and work gloves. SVT can provide non
 -latex gloves that can also provide protection against poison ivy.\nChildr
 en 11 years old to 15 years old are welcome if accompanied by an adult.\nN
 ational Volunteer Week: April 17-24
CATEGORIES:Volunteer Opportunity
LOCATION:Smith Conservation Land\, 199 Whitcomb Ave\, Littleton\, United St
 ates
X-APPLE-STRUCTURED-LOCATION;VALUE=URI;X-ADDRESS=199 Whitcomb Ave\, Littleto
 n\, United States;X-APPLE-RADIUS=100;X-TITLE=Smith Conservation Land:geo:0
 ,0
END:VEVENT
BEGIN:VTIMEZONE
TZID:America/New_York
X-LIC-LOCATION:America/New_York
BEGIN:DAYLIGHT
DTSTART:20220313T030000
TZOFFSETFROM:-0500
TZOFFSETTO:-0400
TZNAME:EDT
END:DAYLIGHT
END:VTIMEZONE
END:VCALENDAR