BEGIN:VCALENDAR
VERSION:2.0
PRODID:-//wp-events-plugin.com//7.2.3.1//EN
TZID:America/New_York
X-WR-TIMEZONE:America/New_York
BEGIN:VEVENT
UID:319@cisma-suasco.org
DTSTART;TZID=America/New_York:20250503T090000
DTEND;TZID=America/New_York:20250503T110000
DTSTAMP:20250228T174546Z
URL:https://cisma-suasco.org/events/svt-weed-warrior-workday-in-littleton/
SUMMARY:SVT: Weed Warrior Workday in Littleton
DESCRIPTION:Join SVT staff to remove invasive species at Smith Conservation
  Land in Littleton! We'll be focusing mainly on herbaceous invasives like 
 garlic mustard\, narrow-leaf bittercress\, and lesser celandine. No experi
 ence necessary—please wear long pants and closed-toe shoes.\n\nAdditiona
 l parking and waiver information will be sent to registrants.\n\nREGISTER 
 HERE
CATEGORIES:Weed Warrior Event
LOCATION:Smith Conservation Land\, 199 Whitcomb Ave\, Littleton\, United St
 ates
X-APPLE-STRUCTURED-LOCATION;VALUE=URI;X-ADDRESS=199 Whitcomb Ave\, Littleto
 n\, United States;X-APPLE-RADIUS=100;X-TITLE=Smith Conservation Land:geo:0
 ,0
END:VEVENT
BEGIN:VTIMEZONE
TZID:America/New_York
X-LIC-LOCATION:America/New_York
BEGIN:DAYLIGHT
DTSTART:20250309T030000
TZOFFSETFROM:-0500
TZOFFSETTO:-0400
TZNAME:EDT
END:DAYLIGHT
END:VTIMEZONE
END:VCALENDAR