BEGIN:VCALENDAR
VERSION:2.0
PRODID:-//wp-events-plugin.com//7.2.3.1//EN
TZID:America/New_York
X-WR-TIMEZONE:America/New_York
BEGIN:VEVENT
UID:134@cisma-suasco.org
DTSTART;TZID=America/New_York:20220426T160000
DTEND;TZID=America/New_York:20220426T180000
DTSTAMP:20220421T184700Z
URL:https://cisma-suasco.org/events/svt-weed-warrior-workday-smith-conserv
 ation-land/
SUMMARY:SVT WEED WARRIOR WORKDAY: SMITH CONSERVATION LAND
DESCRIPTION:April 26\, 2022 4:00pm to 6:00pm\nLOCATION: Smith Conservation 
 Land\, Littleton and Harvard\nLEADER: Jane Maloney\, SVT Land Steward\nHel
 p to restore the beautiful Smith Conservation Land. This activity is part 
 of a long-term project to restore the natural habitat. Weed warrior volunt
 eers will be pulling bittersweet and removing the root systems using a “
 root extraction” method. SVT will provide hand tools. This work involves
  kneeling and digging for extended periods of time. Register here.\n*Poiso
 n ivy is present at this site. Volunteers should wear long pants and long 
 sleeves and work gloves. SVT can provide non-latex gloves that can also pr
 ovide protection against poison ivy.
CATEGORIES:Volunteer Opportunity
LOCATION:Smith Conservation Land\, 199 Whitcomb Ave\, Littleton\, United St
 ates
X-APPLE-STRUCTURED-LOCATION;VALUE=URI;X-ADDRESS=199 Whitcomb Ave\, Littleto
 n\, United States;X-APPLE-RADIUS=100;X-TITLE=Smith Conservation Land:geo:0
 ,0
END:VEVENT
BEGIN:VTIMEZONE
TZID:America/New_York
X-LIC-LOCATION:America/New_York
BEGIN:DAYLIGHT
DTSTART:20220313T030000
TZOFFSETFROM:-0500
TZOFFSETTO:-0400
TZNAME:EDT
END:DAYLIGHT
END:VTIMEZONE
END:VCALENDAR