BEGIN:VCALENDAR
VERSION:2.0
PRODID:-//wp-events-plugin.com//7.2.3.1//EN
TZID:America/New_York
X-WR-TIMEZONE:America/New_York
BEGIN:VEVENT
UID:303@cisma-suasco.org
DTSTART;TZID=America/New_York:20241115T130000
DTEND;TZID=America/New_York:20241115T150000
DTSTAMP:20240809T125552Z
URL:https://cisma-suasco.org/events/twin-pond-meadow-workday/
SUMMARY:Twin Pond Meadow Workday
DESCRIPTION:Twin Pond Meadow Workday\n\nhis workday will focus on clearing 
 invasive plants from the edges of a forested meadow. Breaks in the foreste
 d landscape like this meadow allow for greater opportunities for plant and
  habitat diversification.\n\nTo RSVP\, please use this link https://tinyur
 l.com/2y8z4jju .\n\nMeeting location\, event details\, and waiver will be 
 emailed to registrants   prior to the workday. Children under 18 must be
  accompanied by an adult.\n\nFor questions please contact conservation@lin
 colntown.org or\n\n781-259-2612.
CATEGORIES:Public Event,Volunteer Opportunity,Weed Warrior Event
END:VEVENT
BEGIN:VTIMEZONE
TZID:America/New_York
X-LIC-LOCATION:America/New_York
BEGIN:STANDARD
DTSTART:20241103T010000
TZOFFSETFROM:-0400
TZOFFSETTO:-0500
TZNAME:EST
END:STANDARD
END:VTIMEZONE
END:VCALENDAR